BEGIN:VCALENDAR
VERSION:2.0
PRODID:-//ChamberMaster//Event Calendar 2.0//EN
METHOD:PUBLISH
X-PUBLISHED-TTL:P1H
REFRESH-INTERVAL:P1H
CALSCALE:GREGORIAN
BEGIN:VTIMEZONE
TZID:America/New_York
BEGIN:DAYLIGHT
RRULE:FREQ=YEARLY;BYMONTH=3;BYDAY=2SU
DTSTART:20070101T000000
TZOFFSETFROM:-0500
TZOFFSETTO:-0400
TZNAME:Eastern Daylight Time
END:DAYLIGHT
BEGIN:STANDARD
RRULE:FREQ=YEARLY;BYMONTH=11;BYDAY=1SU
DTSTART:20070101T000000
TZOFFSETFROM:-0400
TZOFFSETTO:-0500
TZNAME:Eastern Standard Time
END:STANDARD
END:VTIMEZONE
BEGIN:VEVENT
DTSTART;TZID=America/New_York:20220315T090000
DTEND;TZID=America/New_York:20220315T100000
X-MICROSOFT-CDO-ALLDAYEVENT:FALSE
SUMMARY:Government Affairs Kickoff Meeting
DESCRIPTION:The first meeting of the 2022 Government Affairs Committee\, including town monitors and special guests. Join us to to set the goals and direction for the year and create a plan of action! You will also hear an update on emerging issues and advocacy efforts. We hope you'll join us. This committee is open to all Berkshire REALTOR and Affiliate members. To make it most convenient\, we will endeavor to have a fast-paced meeting - 1 hour long - via zoom so you can jump on / jump off and go about your busy day.
X-ALT-DESC;FMTTYPE=text/html:The first meeting of the 2022 Government Affairs Committee\, including town monitors and special guests. Join us to to set the goals and direction for the year and create a plan of action! You will also hear an update on emerging issues and advocacy efforts. We hope you'll join us. This committee is open to all Berkshire REALTOR and Affiliate members. To make it most convenient\, we will endeavor to have a fast-paced meeting - 1 hour long - via zoom so you can jump on / jump off and go about your busy day.
LOCATION:
UID:e.1545.593104
SEQUENCE:3
DTSTAMP:20260421T145256Z
URL:https://members.berkshirerealtors.net/eventcalendar/Details/government-affairs-kickoff-meeting-610267?sourceTypeId=Hub
END:VEVENT
END:VCALENDAR
